BEGIN:VCALENDAR
VERSION:2.0
PRODID:-//Milkfarm - ECPv6.15.18//NONSGML v1.0//EN
CALSCALE:GREGORIAN
METHOD:PUBLISH
X-ORIGINAL-URL:https://milkfarmla.com
X-WR-CALDESC:Events for Milkfarm
REFRESH-INTERVAL;VALUE=DURATION:PT1H
X-Robots-Tag:noindex
X-PUBLISHED-TTL:PT1H
BEGIN:VTIMEZONE
TZID:America/Los_Angeles
BEGIN:DAYLIGHT
TZOFFSETFROM:-0800
TZOFFSETTO:-0700
TZNAME:PDT
DTSTART:20190310T100000
END:DAYLIGHT
BEGIN:STANDARD
TZOFFSETFROM:-0700
TZOFFSETTO:-0800
TZNAME:PST
DTSTART:20191103T090000
END:STANDARD
BEGIN:DAYLIGHT
TZOFFSETFROM:-0800
TZOFFSETTO:-0700
TZNAME:PDT
DTSTART:20200308T100000
END:DAYLIGHT
BEGIN:STANDARD
TZOFFSETFROM:-0700
TZOFFSETTO:-0800
TZNAME:PST
DTSTART:20201101T090000
END:STANDARD
BEGIN:DAYLIGHT
TZOFFSETFROM:-0800
TZOFFSETTO:-0700
TZNAME:PDT
DTSTART:20210314T100000
END:DAYLIGHT
BEGIN:STANDARD
TZOFFSETFROM:-0700
TZOFFSETTO:-0800
TZNAME:PST
DTSTART:20211107T090000
END:STANDARD
END:VTIMEZONE
BEGIN:VEVENT
DTSTART;TZID=America/Los_Angeles:20200105T180000
DTEND;TZID=America/Los_Angeles:20200105T193000
DTSTAMP:20260420T041608
CREATED:20191204T172820Z
LAST-MODIFIED:20191204T192945Z
UID:13237-1578247200-1578252600@milkfarmla.com
SUMMARY:Parmigiano Reggiano Cracking Party at Boomtown Brewery
DESCRIPTION:Happy Holidays! What better gift to give your loved ones\, co-workers\, and yourself…than tickets to a CHEESE CLASS (with beer)! Everyone will fight over this gift in a White Elephant gift exchange for sure! \nJoin us for our most popular\, educational class! This event is ALL AGES and includes a detailed\, educational slideshow presentation on how this glorious cheese is made\, followed by a live cracking of an 85 pound wheel using traditional tools! Q&A and samples of fresh cheese from the center of the wheel to follow! We are lucky to get the famed Solo di Bruna (Brown Cow) Parmigiano Reggiano\, so come and see what the hype is all about! \nThe event will be at Boomtown Brewery in their big\, beautiful\, private event space within their brewery! Support local brewers in Los Angeles! This event includes one Welcome BEER of your choice from their taplist. (Limitations apply. Drink tickets only given to those over 21 years of age) \nFresh Parmigiano Reggiano will also be available for purchase after the event. Get a FREE traditional Parmigiano Reggiano knife with purchase! \nDon’t delay…this event SELLS OUT EVERY SINGLE TIME! Tickets are available now…a great gift idea for the holidays or just a reason to do cool things\, with cool people\, on a Sunday! \nTHE DEETS: \n$20 per person\, includes a Boomtown Brewery beer of your choice. \nBREWERY HOURS on Sunday: 12-10pm (food truck will be on-site) \nEVENT CHECK-IN: starts at 5pm to get your drink on \nCLASS STARTS: 6pm \nTO BE REDIRECTED TO TICKET SALES CLICK HERE. \nTickets are non-refundable but are transferable.
URL:https://milkfarmla.com/event/parmigiano-reggiano-cracking-party-at-boomtown-brewery/
LOCATION:BOOMTOWN BREWERY\, 700 Jackson Street\, Los Angeles\, CA\, 90012
CATEGORIES:Classes,Events
ATTACH;FMTTYPE=image/png:https://milkfarmla.com/wp-content/uploads/2019/12/Screen-Shot-2019-12-04-at-8.55.58-AM.png
ORGANIZER;CN="Milkfarm":MAILTO:saycheese@milkfarmwebsite-3rq0e3uq73.live-website.com
END:VEVENT
END:VCALENDAR