BEGIN:VCALENDAR
VERSION:2.0
PRODID:-//Milkfarm - ECPv6.15.18//NONSGML v1.0//EN
CALSCALE:GREGORIAN
METHOD:PUBLISH
X-ORIGINAL-URL:https://milkfarmla.com
X-WR-CALDESC:Events for Milkfarm
REFRESH-INTERVAL;VALUE=DURATION:PT1H
X-Robots-Tag:noindex
X-PUBLISHED-TTL:PT1H
BEGIN:VTIMEZONE
TZID:America/Los_Angeles
BEGIN:DAYLIGHT
TZOFFSETFROM:-0800
TZOFFSETTO:-0700
TZNAME:PDT
DTSTART:20190310T100000
END:DAYLIGHT
BEGIN:STANDARD
TZOFFSETFROM:-0700
TZOFFSETTO:-0800
TZNAME:PST
DTSTART:20191103T090000
END:STANDARD
BEGIN:DAYLIGHT
TZOFFSETFROM:-0800
TZOFFSETTO:-0700
TZNAME:PDT
DTSTART:20200308T100000
END:DAYLIGHT
BEGIN:STANDARD
TZOFFSETFROM:-0700
TZOFFSETTO:-0800
TZNAME:PST
DTSTART:20201101T090000
END:STANDARD
BEGIN:DAYLIGHT
TZOFFSETFROM:-0800
TZOFFSETTO:-0700
TZNAME:PDT
DTSTART:20210314T100000
END:DAYLIGHT
BEGIN:STANDARD
TZOFFSETFROM:-0700
TZOFFSETTO:-0800
TZNAME:PST
DTSTART:20211107T090000
END:STANDARD
END:VTIMEZONE
BEGIN:VEVENT
DTSTART;TZID=America/Los_Angeles:20200607T180000
DTEND;TZID=America/Los_Angeles:20200607T193000
DTSTAMP:20260424T073207
CREATED:20200514T001045Z
LAST-MODIFIED:20200516T213937Z
UID:15393-1591552800-1591558200@milkfarmla.com
SUMMARY:Virtual Cheese Class and Tasting with Essex Street Cheese
DESCRIPTION:Join us for a Virtual Cheese Class and Tasting on June 7th at 6pm!\nWe are THRILLED to parter with Cheese Educators and Cheese Science Experts Rachel Juhl and Jess Perrie of Essex St. Cheese for a class and tasting of cheeses from their portfolio. Join us as we venture around the world\, tasting and learning about several cheeses from gurus in the industry. We are excited to pivot from the norm\, and bring cheese school online via Zoom! \nOur relationship with Essex St. Cheese runs deep. They are the premier selector and importer of European artisan cheeses like our Marcel Petite Comte\, L’Amuse Gouda\, Brabander Gouda\, and more. We work closely with them to bring the most authentic traditional cheeses to our cheese case\, and as chief educator for Essex St. Cheese\, our host Rachel Juhl is an expert! \nJoin us via Zoom as Rachel guides us through a tasting of four incredible\, and wildly different cheeses from their portfolio. Learn about how they are made\, the rules and regulations that pertain to making each cheese\, and everything in between! \n \nCost: $45. The portion size of cheese included in this price is intended for one person. Of course\, we understand that you may be quarantine-ing with another person….and you can absolutely share! But\, please consider purchasing one ticket per person to ensure you have enough cheese to enjoy the event for the full 1.5 hours. \nWhat is included: \n\nFour- 2oz pieces of cheese\nAccoutrement (crackers\, jam and Milkfarm cheese spreader)\nEssex Street Cheese cheese booklet!\n1.5 hours of education from experts in the industry\n\nHere are the details: \n1. Make sure you set up the Zoom App on your phone\, iPad or computer. \nhttps://zoom.us/ \nNote: The private video conferencing link to Zoom will be provided in a separate email sent the day of the tasting at 5pm. This is to help avoid virtual meeting crashers. \nIf you need help\, this video is handy: \n \nPlease do this at least an hour or two before the class starts\, so you are familiar with the functions. You may want to consider doing this a day/days before the event to be absolutely sure you are set up to attend the class. \n2. PICK UP YOUR CHEESE: In-store or curbside at Milkfarm on the day of this event (unfortunately\, we will not be offering pick-ups prior to this date). Pick-up and class date is Sunday\, June 7th. Cheese plate pick-up available during business hours from 11am till 5pm.Cheese plates will be available for pick-up during business hours from 11am till 5pm. \n3. Day of the class\, TUNE IN: Using the Zoom link we sent you\, login and standby up to 30 minutes before the class start time. By checking-in early\, you can ask Rachel or Jess additional questions and hang out with fellow classmates! Please check in at least 10 minutes before start time\, as the class will start promptly at 6pm. \n4. Beer and Wine: can always make a tasting more enjoyable and can be purchased when you come and pick up your cheese! If you’d prefer to pick-up curbside\, please give us a call at (323)892-1068 anytime before you pick up your cheese to place an order. Any of our Cheesemongers would be happy to help you! \nTo purchase tickets CLICK HERE to be redirected to Eventbrite.\n***Tickets will be sale starting on May 26th.
URL:https://milkfarmla.com/event/virtual-cheese-class-and-tasting-with-essex-street-cheese/
LOCATION:Zoom Virtual Class\, Your House\, Your City\, California
CATEGORIES:Classes
ATTACH;FMTTYPE=image/png:https://milkfarmla.com/wp-content/uploads/2020/05/Screen-Shot-2020-05-13-at-4.07.16-PM.png
END:VEVENT
END:VCALENDAR