BEGIN:VCALENDAR
VERSION:2.0
PRODID:-//Milkfarm - ECPv6.15.18//NONSGML v1.0//EN
CALSCALE:GREGORIAN
METHOD:PUBLISH
X-ORIGINAL-URL:https://milkfarmla.com
X-WR-CALDESC:Events for Milkfarm
REFRESH-INTERVAL;VALUE=DURATION:PT1H
X-Robots-Tag:noindex
X-PUBLISHED-TTL:PT1H
BEGIN:VTIMEZONE
TZID:America/Los_Angeles
BEGIN:DAYLIGHT
TZOFFSETFROM:-0800
TZOFFSETTO:-0700
TZNAME:PDT
DTSTART:20220313T100000
END:DAYLIGHT
BEGIN:STANDARD
TZOFFSETFROM:-0700
TZOFFSETTO:-0800
TZNAME:PST
DTSTART:20221106T090000
END:STANDARD
BEGIN:DAYLIGHT
TZOFFSETFROM:-0800
TZOFFSETTO:-0700
TZNAME:PDT
DTSTART:20230312T100000
END:DAYLIGHT
BEGIN:STANDARD
TZOFFSETFROM:-0700
TZOFFSETTO:-0800
TZNAME:PST
DTSTART:20231105T090000
END:STANDARD
BEGIN:DAYLIGHT
TZOFFSETFROM:-0800
TZOFFSETTO:-0700
TZNAME:PDT
DTSTART:20240310T100000
END:DAYLIGHT
BEGIN:STANDARD
TZOFFSETFROM:-0700
TZOFFSETTO:-0800
TZNAME:PST
DTSTART:20241103T090000
END:STANDARD
END:VTIMEZONE
BEGIN:VEVENT
DTSTART;VALUE=DATE:20231201
DTEND;VALUE=DATE:20231222
DTSTAMP:20260421T030216
CREATED:20231201T183057Z
LAST-MODIFIED:20231201T183057Z
UID:70176-1701388800-1703203199@milkfarmla.com
SUMMARY:Holiday Preorder Forms
DESCRIPTION:***Deadline to receive this order is Thursday 12/21 at 7pm.\nCancellation Policy: Must cancel order by 7pm\, Thursday 12/21 for full refund. Any orders not picked up by end of day (5pm)\nSunday 12/24 may be picked up on Wednesday 12/27. We will be CLOSED on Christmas Day AND Boxing Day (12/26). No refunds\,\nexchanges\, money back\, or store credit for orders not cancelled on time\, or orders not picked up. Sorry\, no exceptions. \nChristmas 2023 Preorder Form PDF
URL:https://milkfarmla.com/event/holiday-preorder-forms-3/
LOCATION:Milkfarm
ATTACH;FMTTYPE=image/png:https://milkfarmla.com/wp-content/uploads/2023/12/Christmas-2023-Preorder-Form-PDF-PICTURE.png
END:VEVENT
END:VCALENDAR